BEGIN:VCALENDAR
VERSION:2.0
PRODID:-//ChamberMaster//Event Calendar 2.0//EN
METHOD:PUBLISH
X-PUBLISHED-TTL:P3D
REFRESH-INTERVAL:P3D
CALSCALE:GREGORIAN
BEGIN:VEVENT
DTSTART:20201021T150000Z
DTEND:20201021T170000Z
X-MICROSOFT-CDO-ALLDAYEVENT:FALSE
SUMMARY:Member Appreciation Cookout!
DESCRIPTION:October 21 is #CelebrateYourLocalChamberOfCommerceDay\, so we want to celebrate by thanking YOU for being Chamber members! \n\n\n\nThe cookout is for Chamber members only\, and will be held at the Gregg Park Shelter House on Wednesday\, October 21 from 11-1 PM.
X-ALT-DESC;FMTTYPE=text/html:October 21 is #CelebrateYourLocalChamberOfCommerceDay\, so we want to celebrate by thanking YOU for being Chamber members!&nbsp\;<br />\n<br />\nThe cookout is for Chamber members only\, and will be held at the Gregg Park Shelter House on Wednesday\, October 21 from 11-1 PM.
LOCATION:
UID:e.3273.123
SEQUENCE:3
DTSTAMP:20260424T203947Z
URL:https://business.knoxcountychamber.com/events/details/member-appreciation-cookout-123
END:VEVENT

END:VCALENDAR
