BEGIN:VCALENDAR
VERSION:2.0
PRODID:-//ChamberMaster//Event Calendar 2.0//EN
METHOD:PUBLISH
X-PUBLISHED-TTL:P3D
REFRESH-INTERVAL:P3D
CALSCALE:GREGORIAN
BEGIN:VEVENT
DTSTART:20191016T150000Z
DTEND:20191016T173000Z
X-MICROSOFT-CDO-ALLDAYEVENT:FALSE
SUMMARY:Member Appreciation Cookout
DESCRIPTION:October 16 is #CelebrateYourLocalChamberOfCommerceDay\, so we want to celebrate by thanking YOU for being Chamber members! \n\n\n\nThe cookout is for Chamber members only\, and will be held at the Gregg Park Shelter House on Wednesday\, October 16 from 11-1:30 PM.
X-ALT-DESC;FMTTYPE=text/html:October 16 is #CelebrateYourLocalChamberOfCommerceDay\, so we want to celebrate by thanking YOU for being Chamber members!&nbsp\;<br />\n<br />\nThe cookout is for Chamber members only\, and will be held at the Gregg Park Shelter House on Wednesday\, October 16 from 11-1:30 PM.
LOCATION:
UID:e.3273.66
SEQUENCE:3
DTSTAMP:20260425T144021Z
URL:https://business.knoxcountychamber.com/events/details/member-appreciation-cookout-66
END:VEVENT

END:VCALENDAR
