BEGIN:VCALENDAR
VERSION:2.0
PRODID:-//ChamberMaster//Event Calendar 2.0//EN
METHOD:PUBLISH
X-PUBLISHED-TTL:P3D
REFRESH-INTERVAL:P3D
CALSCALE:GREGORIAN
BEGIN:VEVENT
DTSTART:20210501T140000Z
DTEND:20210501T160000Z
X-MICROSOFT-CDO-ALLDAYEVENT:FALSE
SUMMARY:Member Event: SHRED DAY by Klein Real Estate
DESCRIPTION:Bring your items for our FREE on site shredding event!
X-ALT-DESC;FMTTYPE=text/html:<span style="font-size:14px">Bring your items for our <strong>FREE</strong> on site shredding event!</span>
LOCATION:Klein Real Estate 505 N. 6th St.\, Vincennes\, IN 47591
UID:e.3273.150
SEQUENCE:3
DTSTAMP:20260422T213457Z
URL:https://business.knoxcountychamber.com/events/details/member-event-shred-day-by-klein-real-estate-150
END:VEVENT

END:VCALENDAR
