BEGIN:VCALENDAR
VERSION:2.0
PRODID:-//ChamberMaster//Event Calendar 2.0//EN
METHOD:PUBLISH
X-PUBLISHED-TTL:P3D
REFRESH-INTERVAL:P3D
CALSCALE:GREGORIAN
BEGIN:VEVENT
DTSTART:20210121T131500Z
DTEND:20210121T141500Z
X-MICROSOFT-CDO-ALLDAYEVENT:FALSE
SUMMARY:Membership 101
DESCRIPTION:Whether you're a new or existing member of the Chamber\, Membership 101 offers an in-depth look at the benefits of Chamber membership. It provides you an opportunity to network with other members and meet the Chamber staff. This is an hour-long session.\n\n\n\nThis event will be held virtually via Zoom. A link will be emailed to all participants before the event.
X-ALT-DESC;FMTTYPE=text/html:<span class="JsGRdQ" style="color: rgb(26\, 57\, 88)\;">Whether you&#39\;re a new or existing member of the Chamber\, Membership 101 offers an in-depth look at the benefits of Chamber membership. It provides you an opportunity to network with other members and meet the Chamber staff. This is an hour-long session.<br />\n<br />\nThis event will be held virtually via Zoom. A link will be emailed to all participants before the event.&nbsp\;</span>
LOCATION:
UID:e.3273.129
SEQUENCE:3
DTSTAMP:20260424T143731Z
URL:https://business.knoxcountychamber.com/events/details/membership-101-129
END:VEVENT

END:VCALENDAR
