BEGIN:VCALENDAR
VERSION:2.0
PRODID:-//ChamberMaster//Event Calendar 2.0//EN
METHOD:PUBLISH
X-PUBLISHED-TTL:P3D
REFRESH-INTERVAL:P3D
CALSCALE:GREGORIAN
BEGIN:VEVENT
DTSTART:20210420T121500Z
DTEND:20210420T131500Z
X-MICROSOFT-CDO-ALLDAYEVENT:FALSE
SUMMARY:Membership 101
DESCRIPTION:Whether you're a new or existing member of the Chamber\, Membership 101 offers an in-depth look at the benefits of Chamber membership. It provides you an opportunity to network with other members and meet the Chamber staff. This is an hour-long session.\n\n\n\nThis event is limited to 10 people and will be held in the Chamber Conference room\, located at 316 Main Street\, Vincennes.\n\n\n\nThe event will begin at 8:15 a.m. and will end within the hour. Our Membership 101 events are open to new and perspective members. Registration is required to attend. There is no cost to attend.
X-ALT-DESC;FMTTYPE=text/html:<span style="color: rgb(26\, 57\, 88)\;">Whether you&#39\;re a new or existing member of the Chamber\, Membership 101 offers an in-depth look at the benefits of Chamber membership. It provides you an opportunity to network with other members and meet the Chamber staff. This is an hour-long session.<br />\n<br />\nThis event is limited to 10 people and will be held in the Chamber Conference room\, located at 316 Main Street\, Vincennes.<br />\n<br />\nThe event will begin at 8:15 a.m. and will end within the hour. Our Membership 101 events are open to new and perspective members. Registration is required to attend. There is no cost to attend.</span>
LOCATION:
UID:e.3273.134
SEQUENCE:3
DTSTAMP:20260424T095728Z
URL:https://business.knoxcountychamber.com/events/details/membership-101-134
END:VEVENT

END:VCALENDAR
