BEGIN:VCALENDAR
VERSION:2.0
PRODID:-//ChamberMaster//Event Calendar 2.0//EN
METHOD:PUBLISH
X-PUBLISHED-TTL:P3D
REFRESH-INTERVAL:P3D
CALSCALE:GREGORIAN
BEGIN:VEVENT
DTSTART:20210629T123000Z
DTEND:20210629T133000Z
X-MICROSOFT-CDO-ALLDAYEVENT:FALSE
SUMMARY:Membership 101
DESCRIPTION:Whether you're a new or existing member of the Chamber\, Membership 101 offers an in-depth look at the benefits of Chamber membership. It provides you an opportunity to network with other members and meet the Chamber staff. This is an hour-long session.\n\n\n\nThis event will be held in-person and will take place in the Chamber Conference Room\, located at 316 Main Street. \n\n\n\nWe are offering 2 sessions for members to choose from: 8:30AM or 3:00PM. Please specify which session you plan to attend when registering.
X-ALT-DESC;FMTTYPE=text/html:<span class="JsGRdQ" style="color: rgb(26\, 57\, 88)\;">Whether you&#39\;re a new or existing member of the Chamber\, Membership 101 offers an in-depth look at the benefits of Chamber membership. It provides you an opportunity to network with other members and meet the Chamber staff. This is an hour-long session.<br />\n<br />\nThis event will be held in-person and will take place in the Chamber Conference Room\, located at 316 Main Street.&nbsp\;<br />\n<br />\nWe are offering 2 sessions for members to choose from: 8:30AM or 3:00PM. Please specify which session you plan to attend when registering.&nbsp\;</span>
LOCATION:
UID:e.3273.165
SEQUENCE:3
DTSTAMP:20260422T194523Z
URL:https://business.knoxcountychamber.com/events/details/membership-101-165
END:VEVENT

END:VCALENDAR
