BEGIN:VCALENDAR
VERSION:2.0
PRODID:-//ChamberMaster//Event Calendar 2.0//EN
METHOD:PUBLISH
X-PUBLISHED-TTL:P3D
REFRESH-INTERVAL:P3D
CALSCALE:GREGORIAN
BEGIN:VEVENT
DTSTART:20190912T120000Z
DTEND:20190912T130000Z
X-MICROSOFT-CDO-ALLDAYEVENT:FALSE
SUMMARY:Membership 101
DESCRIPTION:Whether you're a new or existing member of the Chamber\, Membership 101 offers an in-depth look at the benefits of Chamber membership. It provides you an opportunity to network with other members and meet the Chamber staff.  This will be an hour long session.
X-ALT-DESC;FMTTYPE=text/html:<span style="language:en-US\;"><span style="color:#333333\;"><span style="font-family:calibri\;"><span style="font-size:12.0pt\;">Whether you&#39\;re a new or existing member of the Chamber\, Membership 101 offers an in-depth look at the benefits of Chamber membership. It provides you an opportunity to network with other members and meet the Chamber staff.&nbsp\; This will be an hour long session.</span></span></span></span>
LOCATION:TBA
UID:e.3273.44
SEQUENCE:3
DTSTAMP:20260425T144335Z
URL:https://business.knoxcountychamber.com/events/details/membership-101-44
END:VEVENT

END:VCALENDAR
