BEGIN:VCALENDAR
VERSION:2.0
PRODID:-//ChamberMaster//Event Calendar 2.0//EN
METHOD:PUBLISH
X-PUBLISHED-TTL:P3D
REFRESH-INTERVAL:P3D
CALSCALE:GREGORIAN
BEGIN:VEVENT
DTSTART:20220526T143000Z
DTEND:20220526T160000Z
X-MICROSOFT-CDO-ALLDAYEVENT:FALSE
SUMMARY:Old National Bank Ribbon Cutting
DESCRIPTION:Join us for the Ribbon Cutting at Old National Bank's new banking center at 100 South 6th St. Vincennes! There will be a complimentary food truck lunch following the ribbon cutting.
X-ALT-DESC;FMTTYPE=text/html:Join us for the Ribbon Cutting at Old National Bank&#39\;s new banking center at 100 South 6th St. Vincennes! There will be a complimentary food truck lunch following the ribbon cutting.&nbsp\;
LOCATION:
UID:e.3273.432
SEQUENCE:3
DTSTAMP:20260422T023716Z
URL:https://business.knoxcountychamber.com/events/details/old-national-bank-ribbon-cutting-432
END:VEVENT

END:VCALENDAR
