BEGIN:VCALENDAR
VERSION:2.0
PRODID:-//ChamberMaster//Event Calendar 2.0//EN
METHOD:PUBLISH
X-PUBLISHED-TTL:P3D
REFRESH-INTERVAL:P3D
CALSCALE:GREGORIAN
BEGIN:VEVENT
DTSTART:20211022T160000Z
DTEND:20211024T160000Z
X-MICROSOFT-CDO-ALLDAYEVENT:FALSE
SUMMARY:Old Town Players Show - Young Frankenstein
DESCRIPTION:Young Frankenstein [Musical Comedy] Director: Catenna Minnich Every bit as relevant to audience members who will remember the original as it will be to newcomers\, Young Frankenstein has all of the panache of the screen sensation with a little extra theatrical flair added. It will surely be the perfect opportunity for a production company to showcase an array of talents. With such memorable tunes as "The Transylvania Mania\," "He Vas My Boyfriend" and "Puttin' on the Ritz\," Young Frankenstein is scientifically proven\, monstrously good entertainment. Show Times Friday & Saturday: 7:00 pm | Sunday: 3:00 pm TICKETS Sold at the door\, beginning 1 hour before show time.
X-ALT-DESC;FMTTYPE=text/html:Young Frankenstein [Musical Comedy] Director: Catenna Minnich Every bit as relevant to audience members who will remember the original as it will be to newcomers\, Young Frankenstein has all of the panache of the screen sensation with a little extra theatrical flair added. It will surely be the perfect opportunity for a production company to showcase an array of talents. With such memorable tunes as &quot\;The Transylvania Mania\,&quot\; &quot\;He Vas My Boyfriend&quot\; and &quot\;Puttin&#39\; on the Ritz\,&quot\; Young Frankenstein is scientifically proven\, monstrously good entertainment. Show Times Friday &amp\; Saturday: 7:00 pm | Sunday: 3:00 pm TICKETS Sold at the door\, beginning 1 hour before show time.
LOCATION:
UID:e.3273.191
SEQUENCE:3
DTSTAMP:20260422T134017Z
URL:https://business.knoxcountychamber.com/events/details/old-town-players-show-young-frankenstein-191
END:VEVENT

END:VCALENDAR
