BEGIN:VCALENDAR
VERSION:2.0
PRODID:-//ChamberMaster//Event Calendar 2.0//EN
METHOD:PUBLISH
X-PUBLISHED-TTL:P3D
REFRESH-INTERVAL:P3D
CALSCALE:GREGORIAN
BEGIN:VEVENT
DTSTART:20240911T220000Z
DTEND:20240912T000000Z
X-MICROSOFT-CDO-ALLDAYEVENT:FALSE
SUMMARY:Pizza in the Garden
DESCRIPTION:The Knox County Community Learning Kitchen and the Natural Gardeners Club invite the public to an evening of delicious pizza in a beautiful garden setting\, on Wednesday\, September 11\, 6:00 to 8:00 pm Eastern. The event will be in the Grow City Teaching Garden\, behind the McGrady-Brockman House (614 N. 7th St.\, Vincennes\, across from the Knox County Public Library.) The event is free\, but those interested need to register by going to Eventbrite.com \, then searching for "Pizza in the Garden." Tiffany Muranaka\, Wellness Ambassador from the CLK\, will be demonstrating wood-fired pizza-making and then sharing the pizzas. Some pizza ingredients will be provided by the Grow City Teaching Garden. Participants may also bring items for the pitch-in dinner (note: there will not be electricity available)\, especially salads and desserts\, as well as their own beverages. Though disposable items will be available\, people are encouraged to use the sustainable option of bringing their own table service.
X-ALT-DESC;FMTTYPE=text/html:The Knox County Community Learning Kitchen and the Natural Gardeners Club invite the public to an evening of delicious pizza in a beautiful garden setting\, on Wednesday\, September 11\, 6:00 to 8:00 pm Eastern. The event will be in the Grow City Teaching Garden\, behind the McGrady-Brockman House (614 N. 7th St.\, Vincennes\, across from the Knox County Public Library.) The event is free\, but those interested need to register by going to Eventbrite.com \, then searching for &ldquo\;Pizza in the Garden.&rdquo\; Tiffany Muranaka\, Wellness Ambassador from the CLK\, will be demonstrating wood-fired pizza-making and then sharing the pizzas. Some pizza ingredients will be provided by the Grow City Teaching Garden. Participants may also bring items for the pitch-in dinner (note: there will not be electricity available)\, especially salads and desserts\, as well as their own beverages. Though disposable items will be available\, people are encouraged to use the sustainable option of bringing their own table service.
LOCATION:Grow City Teaching Garden\, behind the McGrady-Brockman House\, 614 N. 7th St.\, Vincennes
UID:e.3273.5673
SEQUENCE:3
DTSTAMP:20260419T181639Z
URL:https://business.knoxcountychamber.com/events/details/pizza-in-the-garden-5673
END:VEVENT

END:VCALENDAR
