BEGIN:VCALENDAR
VERSION:2.0
PRODID:-//ChamberMaster//Event Calendar 2.0//EN
METHOD:PUBLISH
X-PUBLISHED-TTL:P3D
REFRESH-INTERVAL:P3D
CALSCALE:GREGORIAN
BEGIN:VEVENT
DTSTART:20201029T140000Z
DTEND:20201029T150000Z
X-MICROSOFT-CDO-ALLDAYEVENT:FALSE
SUMMARY:POSTPONED - Cyber Security Webinar
DESCRIPTION:In partnership with The AME Group\, the Knox County Chamber will be hosting an educational webinar on the importance of Cyber Security. \n\n\n\nRegistration is required for this event. \n\n\n\nJoin us October 29 to talk about how cyber-threats to businesses have accelerated in 2020 and what you should be doing to respond to these threats.  We'll talk about how businesses LIKE YOURS fall victim cyber-attacks every day!  We'll discuss how to reduce your risks and improve your information security by focusing on what the threats are\, what you can do at low or no cost and other things you should be budgeting for\, so you don't become an easy victim.\n\n\n\nDate: Thursday\, October 29\n\nTime: 10 a.m.\n\nCost: Free\n\n\n\nA webinar link will be sent to registrants the week of the event.
X-ALT-DESC;FMTTYPE=text/html:In partnership with The AME Group\, the Knox County Chamber will be hosting an educational webinar on the importance of Cyber Security.&nbsp\;<br />\n<br />\nRegistration is required for this event.&nbsp\;<br />\n<br />\nJoin us October 29 to talk about how cyber-threats to businesses have accelerated in 2020 and what you should be doing to respond to these threats.&nbsp\; We&rsquo\;ll talk about how businesses LIKE YOURS fall victim cyber-attacks every day!&nbsp\; We&rsquo\;ll discuss how to reduce your risks and improve your information security by focusing on what the threats are\, what you can do at low or no cost and other things you should be budgeting for\, so you don&rsquo\;t become an easy victim.<br />\n<br />\nDate: Thursday\, October 29<br />\nTime: 10 a.m.<br />\nCost: Free<br />\n<br />\nA webinar link will be sent to registrants the week of the event.
LOCATION:
UID:e.3273.126
SEQUENCE:3
DTSTAMP:20260424T191814Z
URL:https://business.knoxcountychamber.com/events/details/postponed-cyber-security-webinar-126
END:VEVENT

END:VCALENDAR
