BEGIN:VCALENDAR
VERSION:2.0
PRODID:-//ChamberMaster//Event Calendar 2.0//EN
METHOD:PUBLISH
X-PUBLISHED-TTL:P3D
REFRESH-INTERVAL:P3D
CALSCALE:GREGORIAN
BEGIN:VEVENT
DTSTART;VALUE=DATE:20211015
DTEND;VALUE=DATE:20211016
TRANSP:TRANSPARENT
X-MICROSOFT-CDO-ALLDAYEVENT:TRUE
SUMMARY:Regional Women's Conference
DESCRIPTION:Please join us for the first Regional Women's Conference on Friday\, October 15th in Lynnville\, IN. Event speakers will consist of inspirational women from all over our region of the state\, including our very own Tai Blythe of PACE Community Action Agency!\n\n \n\nThis event is a joint effort of the Gibson County Chamber\, Jasper Chamber\, Knox County Chamber\, Linton Stockton Chamber\, Perry County Chamber\, Pike County Chamber\, Spencer County Chamber and the Warrick County Chamber. Tickets are $50 per person.\n\n \n\nScheduled Speakers include:\n\n\n	Keynote Speaker - Pat Koch\, Holiday World\n	Ann Knies - Owner\, Chocolate Bliss \n	Cindy Gaskins\, Co-Founder of Sisson Steel\, Pike County Community Foundation\n	Lacy L. Crosier\, Co-founder & CEO C&R Construction\n	Kelli Reinke - Spencer County Sheriff\n	Tai Blythe\, PACE Community Action Agency\n\n\n \n\nRegistration is due on Wednesday\, October 13th.\n\nDon't miss out on this great event!\n\n\n\nRegister Here: https://warrickcountyincoc.wliinc27.com/events/Regional-Womens-Conference-49163/register\n\n \n\nDate: Friday\, October 15\, 2021\n\nTime: 9 AM - 2 PM CST\n\nLocation: Black Horse Barn | 466 W State Rt 68\, Lynnville\, IN. 47619
X-ALT-DESC;FMTTYPE=text/html:<div align="center" style="font-family: Arial\; font-size: 14px\; text-align: center\;"><span style="font-size: 16px\; color: rgb(0\, 0\, 0)\; font-family: Arial\, Verdana\, Helvetica\, sans-serif\;">Please join us for the first Regional Women&#39\;s Conference on Friday\, October 15th in Lynnville\, IN. Event speakers will consist of inspirational women from all over our region of the state\, including our very own Tai Blythe of PACE Community Action Agency!</span></div>\n\n<div align="center" style="font-family: Arial\; font-size: 14px\; text-align: center\;">&nbsp\;</div>\n\n<div align="center" style="font-family: Arial\; font-size: 14px\; text-align: center\;"><span style="font-size: 16px\; color: rgb(0\, 0\, 0)\; font-family: Arial\, Verdana\, Helvetica\, sans-serif\;">This event is a joint effort of the Gibson County Chamber\, Jasper Chamber\, Knox County Chamber\, Linton Stockton Chamber\, Perry County Chamber\, Pike County Chamber\, Spencer County Chamber and the Warrick County Chamber. Tickets are $50 per person.</span></div>\n\n<div align="center" style="font-family: Arial\; font-size: 14px\; text-align: center\;">&nbsp\;</div>\n\n<div style="font-family: Arial\; font-size: 14px\;"><span style="font-size: 16px\; color: rgb(0\, 0\, 0)\;">Scheduled Speakers include:</span></div>\n\n<ul style="padding-right: 0px\; padding-left: 0px\; margin: 0px 0px 0px 40px\; font-family: Arial\; font-size: 14px\;">\n	<li style="padding: 0px\; margin: 0px\; line-height: 1.2\; font-size: 16px\; color: rgb(0\, 0\, 0)\;">Keynote Speaker - Pat Koch\, Holiday World</li>\n	<li style="padding: 0px\; margin: 0px\; line-height: 1.2\; font-size: 16px\; color: rgb(0\, 0\, 0)\;">Ann Knies - Owner\, Chocolate Bliss&nbsp\;</li>\n	<li style="padding: 0px\; margin: 0px\; line-height: 1.2\; font-size: 16px\; color: rgb(0\, 0\, 0)\;">Cindy Gaskins\,&nbsp\;Co-Founder of Sisson Steel\, Pike County Community Foundation</li>\n	<li style="padding: 0px\; margin: 0px\; line-height: 1.2\; font-size: 16px\; color: rgb(0\, 0\, 0)\;">Lacy L. Crosier\,&nbsp\;Co-founder &amp\; CEO C&amp\;R Construction</li>\n	<li style="padding: 0px\; margin: 0px\; line-height: 1.2\; font-size: 16px\; color: rgb(0\, 0\, 0)\;">Kelli Reinke - Spencer County Sheriff</li>\n	<li style="padding: 0px\; margin: 0px\; line-height: 1.2\; font-size: 16px\; color: rgb(0\, 0\, 0)\;">Tai Blythe\, PACE Community Action Agency</li>\n</ul>\n\n<div align="center" style="font-family: Arial\; font-size: 14px\; text-align: center\;">&nbsp\;</div>\n\n<div align="center" style="font-family: Arial\; font-size: 14px\; text-align: center\;"><span style="font-size: 16px\; color: rgb(0\, 0\, 0)\; font-family: Arial\, Verdana\, Helvetica\, sans-serif\; font-weight: bold\;">Registration is due on Wednesday\, October 13th.</span></div>\n\n<div align="center" style="font-family: Arial\; font-size: 14px\; text-align: center\;"><span style="font-size: 16px\; color: rgb(0\, 0\, 0)\; font-family: Arial\, Verdana\, Helvetica\, sans-serif\;">Don&#39\;t miss out on this great event!<br />\n<br />\nRegister Here:&nbsp\;</span><a href="https://warrickcountyincoc.wliinc27.com/events/Regional-Womens-Conference-49163/register"><span style="font-size:16px\;">https://warrickcountyincoc.wliinc27.com/events/Regional-Womens-Conference-49163/register</span></a></div>\n\n<div style="font-family: Arial\; font-size: 14px\;">&nbsp\;</div>\n\n<div style="font-family: Arial\; font-size: 14px\;"><span style="font-size: 16px\; color: rgb(0\, 0\, 0)\; font-family: Arial\, Verdana\, Helvetica\, sans-serif\; font-weight: bold\;">Date:&nbsp\;</span><span style="font-size: 16px\; color: rgb(0\, 0\, 0)\; font-family: Arial\, Verdana\, Helvetica\, sans-serif\;">Friday\, October 15\, 2021</span></div>\n\n<div style="font-family: Arial\; font-size: 14px\;"><span style="font-size: 16px\; color: rgb(0\, 0\, 0)\; font-family: Arial\, Verdana\, Helvetica\, sans-serif\; font-weight: bold\;">Time:&nbsp\;</span><span style="font-size: 16px\; color: rgb(0\, 0\, 0)\; font-family: Arial\, Verdana\, Helvetica\, sans-serif\;">9 AM - 2 PM CST</span></div>\n\n<div style="font-family: Arial\; font-size: 14px\;"><span style="font-size: 16px\; color: rgb(0\, 0\, 0)\; font-family: Arial\, Verdana\, Helvetica\, sans-serif\; font-weight: bold\;">Location:&nbsp\;</span><span style="font-size: 16px\; color: rgb(0\, 0\, 0)\; font-family: Arial\, Verdana\, Helvetica\, sans-serif\;">Black Horse Barn | 466 W State Rt 68\, Lynnville\, IN. 47619</span></div>\n
LOCATION:
UID:e.3273.185
SEQUENCE:3
DTSTAMP:20260422T135224Z
URL:https://business.knoxcountychamber.com/events/details/regional-women-s-conference-185
END:VEVENT

END:VCALENDAR
