BEGIN:VCALENDAR
VERSION:2.0
PRODID:-//ChamberMaster//Event Calendar 2.0//EN
METHOD:PUBLISH
X-PUBLISHED-TTL:P3D
REFRESH-INTERVAL:P3D
CALSCALE:GREGORIAN
BEGIN:VEVENT
DTSTART:20201023T200000Z
DTEND:20201023T203000Z
X-MICROSOFT-CDO-ALLDAYEVENT:FALSE
SUMMARY:Ribbon Cutting - 6th Street Nutrition
DESCRIPTION:Join us for a Ribbon Cutting at 6th Street Nutrition!\n\n \n\nDate: Friday\, October 23\n\n\n\nTime: 4:00 p.m.\n\n\n\nLocation:2801 N. 6th Street\, Ste. B.
X-ALT-DESC;FMTTYPE=text/html:Join us for a Ribbon Cutting at 6th Street Nutrition!<br />\n&nbsp\;\n<div data-block="true" data-editor="3ph1i" data-offset-key="l9jh-0-0" style="font-family: Helvetica\, Arial\, sans-serif\; color: rgb(28\, 30\, 33)\; font-size: 14px\; white-space: pre-wrap\;">\n<div class="_1mf _1mj" data-offset-key="l9jh-0-0" style="position: relative\; direction: ltr\; font-family: inherit\;"><span data-offset-key="l9jh-0-0" style="font-family: inherit\;">Date: Friday\, October 23</span></div>\n</div>\n\n<div data-block="true" data-editor="3ph1i" data-offset-key="6hbdr-0-0" style="font-family: Helvetica\, Arial\, sans-serif\; color: rgb(28\, 30\, 33)\; font-size: 14px\; white-space: pre-wrap\;">\n<div class="_1mf _1mj" data-offset-key="6hbdr-0-0" style="position: relative\; direction: ltr\; font-family: inherit\;"><span data-offset-key="6hbdr-0-0" style="font-family: inherit\;">Time: 4:00 p.m.</span></div>\n</div>\n\n<div data-block="true" data-editor="3ph1i" data-offset-key="280gp-0-0" style="font-family: Helvetica\, Arial\, sans-serif\; color: rgb(28\, 30\, 33)\; font-size: 14px\; white-space: pre-wrap\;">\n<div class="_1mf _1mj" data-offset-key="280gp-0-0" style="position: relative\; direction: ltr\; font-family: inherit\;"><span data-offset-key="280gp-0-0" style="font-family: inherit\;">Location:2801 N. 6th Street\, Ste. B.</span></div>\n</div>\n
LOCATION:
UID:e.3273.121
SEQUENCE:3
DTSTAMP:20260424T192034Z
URL:https://business.knoxcountychamber.com/events/details/ribbon-cutting-6th-street-nutrition-121
END:VEVENT

END:VCALENDAR
