BEGIN:VCALENDAR
VERSION:2.0
PRODID:-//ChamberMaster//Event Calendar 2.0//EN
METHOD:PUBLISH
X-PUBLISHED-TTL:P3D
REFRESH-INTERVAL:P3D
CALSCALE:GREGORIAN
BEGIN:VEVENT
DTSTART:20201028T153000Z
DTEND:20201028T160000Z
X-MICROSOFT-CDO-ALLDAYEVENT:FALSE
SUMMARY:Ribbon Cutting - Abby Carrie Shelter Insurance
DESCRIPTION:Join us for a Ribbon Cutting at Abby Carrie - Shelter Insurance! An Open House will run from 11 a.m. - 2 p.m. with the Ribbon Cutting taking place at 11:30 a.m.\n\n\n\nDate: Wednesday\, October 28\n\nTime: 11:30 a.m.\n\nLocation: 426 Vigo Street\, Vincennes
X-ALT-DESC;FMTTYPE=text/html:Join us for a Ribbon Cutting at Abby Carrie - Shelter Insurance! An Open House will run from 11 a.m. - 2 p.m. with the Ribbon Cutting taking place at 11:30 a.m.<br />\n<br />\nDate: Wednesday\, October 28<br />\nTime: 11:30 a.m.<br />\nLocation: 426 Vigo Street\, Vincennes
LOCATION:
UID:e.3273.120
SEQUENCE:3
DTSTAMP:20260424T192145Z
URL:https://business.knoxcountychamber.com/events/details/ribbon-cutting-abby-carrie-shelter-insurance-120
END:VEVENT

END:VCALENDAR
