BEGIN:VCALENDAR
VERSION:2.0
PRODID:-//ChamberMaster//Event Calendar 2.0//EN
METHOD:PUBLISH
X-PUBLISHED-TTL:P3D
REFRESH-INTERVAL:P3D
CALSCALE:GREGORIAN
BEGIN:VEVENT
DTSTART:20210726T143000Z
DTEND:20210726T144000Z
X-MICROSOFT-CDO-ALLDAYEVENT:FALSE
SUMMARY:Ribbon Cutting - Bicknell Splash Pad at Southside Park
DESCRIPTION:Join us for the Ribbon Cutting at the new Bicknell Splash Pad\, located at Southside Park! \n\n\n\nDate: Monday\, July 26\n\nTime: 10:30 AM\n\nLocation: 135 Park Road\, Bicknell
X-ALT-DESC;FMTTYPE=text/html:Join us for the Ribbon Cutting at the new Bicknell Splash Pad\, located at Southside Park!&nbsp\;<br />\n<br />\nDate: Monday\, July 26<br />\nTime: 10:30 AM<br />\nLocation: 135 Park Road\, Bicknell
LOCATION:
UID:e.3273.172
SEQUENCE:3
DTSTAMP:20260422T182535Z
URL:https://business.knoxcountychamber.com/events/details/ribbon-cutting-bicknell-splash-pad-at-southside-park-172
END:VEVENT

END:VCALENDAR
