BEGIN:VCALENDAR
VERSION:2.0
PRODID:-//ChamberMaster//Event Calendar 2.0//EN
METHOD:PUBLISH
X-PUBLISHED-TTL:P3D
REFRESH-INTERVAL:P3D
CALSCALE:GREGORIAN
BEGIN:VEVENT
DTSTART:20210929T140000Z
DTEND:20210929T141500Z
X-MICROSOFT-CDO-ALLDAYEVENT:FALSE
SUMMARY:Ribbon Cutting - Cantwell Service Center
DESCRIPTION:Join us for the Ribbon Cutting celebration at Cantwell's Service Center on Wednesday\, September 29 at 10 AM.
X-ALT-DESC;FMTTYPE=text/html:Join us for the Ribbon Cutting celebration at Cantwell&#39\;s Service Center on Wednesday\, September 29 at 10 AM.
LOCATION:
UID:e.3273.181
SEQUENCE:3
DTSTAMP:20260422T170632Z
URL:https://business.knoxcountychamber.com/events/details/ribbon-cutting-cantwell-service-center-181
END:VEVENT

END:VCALENDAR
