BEGIN:VCALENDAR
VERSION:2.0
PRODID:-//ChamberMaster//Event Calendar 2.0//EN
METHOD:PUBLISH
X-PUBLISHED-TTL:P3D
REFRESH-INTERVAL:P3D
CALSCALE:GREGORIAN
BEGIN:VEVENT
DTSTART:20201014T200000Z
DTEND:20201014T203000Z
X-MICROSOFT-CDO-ALLDAYEVENT:FALSE
SUMMARY:Ribbon Cutting - Carson Thacker - American Family Insurance
DESCRIPTION:Join us for a Ribbon Cutting at Carson Thacker - American Family Insurance!\n\nDate: Wednesday\, October 14\n\nTime: 4:00 p.m.\n\nLocation: 707 Busseron St. Ste B\, Vincennes\n\nMasks are required at this event.
X-ALT-DESC;FMTTYPE=text/html:<div class="kvgmc6g5 cxmmr5t8 oygrvhab hcukyx3x c1et5uql" style="overflow-wrap: break-word\; margin: 0px\; font-family: &quot\;Segoe UI Historic&quot\;\, &quot\;Segoe UI&quot\;\, Helvetica\, Arial\, sans-serif\; color: rgb(5\, 5\, 5)\; font-size: 15px\;">Join us for a Ribbon Cutting at Carson Thacker - American Family Insurance!</div>\n\n<div class="o9v6fnle cxmmr5t8 oygrvhab hcukyx3x c1et5uql" style="overflow-wrap: break-word\; margin: 0.5em 0px 0px\; font-family: &quot\;Segoe UI Historic&quot\;\, &quot\;Segoe UI&quot\;\, Helvetica\, Arial\, sans-serif\; color: rgb(5\, 5\, 5)\; font-size: 15px\;">Date: Wednesday\, October 14<br />\nTime: 4:00 p.m.<br />\nLocation: 707 Busseron St. Ste B\, Vincennes</div>\n\n<div class="o9v6fnle cxmmr5t8 oygrvhab hcukyx3x c1et5uql" style="overflow-wrap: break-word\; margin: 0.5em 0px 0px\; font-family: &quot\;Segoe UI Historic&quot\;\, &quot\;Segoe UI&quot\;\, Helvetica\, Arial\, sans-serif\; color: rgb(5\, 5\, 5)\; font-size: 15px\;">Masks are required at this event.</div>\n
LOCATION:
UID:e.3273.124
SEQUENCE:3
DTSTAMP:20260424T192012Z
URL:https://business.knoxcountychamber.com/events/details/ribbon-cutting-carson-thacker-american-family-insurance-124
END:VEVENT

END:VCALENDAR
