BEGIN:VCALENDAR
VERSION:2.0
PRODID:-//ChamberMaster//Event Calendar 2.0//EN
METHOD:PUBLISH
X-PUBLISHED-TTL:P3D
REFRESH-INTERVAL:P3D
CALSCALE:GREGORIAN
BEGIN:VEVENT
DTSTART:20190531T150000Z
DTEND:20190531T160000Z
X-MICROSOFT-CDO-ALLDAYEVENT:FALSE
SUMMARY:Ribbon Cutting Dedication Ceremony at Indiana Military Museum
DESCRIPTION:The Indiana Military Museum will host an official dedication ceremony of the Indiana Office of Tourism Development Destination Development on May 31st at 11 AM. Indiana Lieutenant Governor Suzanne Crouch will be present\, along with other dignitaries who have played a major role in the success of the addition to the IMM.
X-ALT-DESC;FMTTYPE=text/html:The Indiana Military Museum will host an official dedication ceremony of the Indiana Office of Tourism Development Destination Development on May 31st at 11 AM. Indiana Lieutenant Governor Suzanne Crouch will be present\, along with other dignitaries who have played a major role in the success of the addition to the IMM.&nbsp\;
LOCATION:Indiana Military Museum - 715 South 6th Street\, Vincennes\, IN.
UID:e.3273.51
SEQUENCE:3
DTSTAMP:20260425T220239Z
URL:https://business.knoxcountychamber.com/events/details/ribbon-cutting-dedication-ceremony-at-indiana-military-museum-51
END:VEVENT

END:VCALENDAR
