BEGIN:VCALENDAR
VERSION:2.0
PRODID:-//ChamberMaster//Event Calendar 2.0//EN
METHOD:PUBLISH
X-PUBLISHED-TTL:P3D
REFRESH-INTERVAL:P3D
CALSCALE:GREGORIAN
BEGIN:VEVENT
DTSTART:20201105T210000Z
DTEND:20201105T213000Z
X-MICROSOFT-CDO-ALLDAYEVENT:FALSE
SUMMARY:Ribbon Cutting - Farmer's Daughter Screen Printing\, Embroidery & More
DESCRIPTION:Join us for a Ribbon Cutting at Farmer's Daughter Screen Printing\, Embroidery & More!\n\nDate: Thursday\, November 5\n\nTime: 4:00 p.m.\n\nLocation: 120 N. 7th St.\, Vincennes\n\nMasks are required at this event.
X-ALT-DESC;FMTTYPE=text/html:<div class="kvgmc6g5 cxmmr5t8 oygrvhab hcukyx3x c1et5uql" style="overflow-wrap: break-word\; margin: 0px\; font-family: &quot\;Segoe UI Historic&quot\;\, &quot\;Segoe UI&quot\;\, Helvetica\, Arial\, sans-serif\; color: rgb(5\, 5\, 5)\; font-size: 15px\;">Join us for a Ribbon Cutting at Farmer&#39\;s Daughter Screen Printing\, Embroidery &amp\; More!</div>\n\n<div class="o9v6fnle cxmmr5t8 oygrvhab hcukyx3x c1et5uql" style="overflow-wrap: break-word\; margin: 0.5em 0px 0px\; font-family: &quot\;Segoe UI Historic&quot\;\, &quot\;Segoe UI&quot\;\, Helvetica\, Arial\, sans-serif\; color: rgb(5\, 5\, 5)\; font-size: 15px\;">Date: Thursday\, November 5<br />\nTime: 4:00 p.m.<br />\nLocation: 120 N. 7th St.\, Vincennes</div>\n\n<div class="o9v6fnle cxmmr5t8 oygrvhab hcukyx3x c1et5uql" style="overflow-wrap: break-word\; margin: 0.5em 0px 0px\; font-family: &quot\;Segoe UI Historic&quot\;\, &quot\;Segoe UI&quot\;\, Helvetica\, Arial\, sans-serif\; color: rgb(5\, 5\, 5)\; font-size: 15px\;">Masks are required at this event.</div>\n
LOCATION:
UID:e.3273.125
SEQUENCE:3
DTSTAMP:20260424T192100Z
URL:https://business.knoxcountychamber.com/events/details/ribbon-cutting-farmer-s-daughter-screen-printing-embroidery-more-125
END:VEVENT

END:VCALENDAR
