BEGIN:VCALENDAR
VERSION:2.0
PRODID:-//ChamberMaster//Event Calendar 2.0//EN
METHOD:PUBLISH
X-PUBLISHED-TTL:P3D
REFRESH-INTERVAL:P3D
CALSCALE:GREGORIAN
BEGIN:VEVENT
DTSTART:20210507T153000Z
DTEND:20210507T160000Z
X-MICROSOFT-CDO-ALLDAYEVENT:FALSE
SUMMARY:Ribbon Cutting - Good Samaritan Charles C. Hedde\, MD Health Education Center
DESCRIPTION:Join us for a Ribbon Cutting for the Good Samaritan's Charles C. Hedde\, MD Health Education Center on Friday\, May 7! The Ribbon Cutting will take place at 11:30 a.m.\n\n\n\nDate: Friday\, May 7\, 2021\n\nTime: 11:30 a.m.\n\nLocation: 520 S. 7th St.\, Vincennes
X-ALT-DESC;FMTTYPE=text/html:Join us for a Ribbon Cutting for the Good Samaritan&#39\;s Charles C. Hedde\, MD Health Education Center on Friday\, May 7! The Ribbon Cutting will take place at 11:30 a.m.<br />\n<br />\nDate: Friday\, May 7\, 2021<br />\nTime: 11:30 a.m.<br />\nLocation: 520 S. 7th St.\, Vincennes
LOCATION:
UID:e.3273.154
SEQUENCE:3
DTSTAMP:20260424T082706Z
URL:https://business.knoxcountychamber.com/events/details/ribbon-cutting-good-samaritan-charles-c-hedde-md-health-education-center-154
END:VEVENT

END:VCALENDAR
