BEGIN:VCALENDAR
VERSION:2.0
PRODID:-//ChamberMaster//Event Calendar 2.0//EN
METHOD:PUBLISH
X-PUBLISHED-TTL:P3D
REFRESH-INTERVAL:P3D
CALSCALE:GREGORIAN
BEGIN:VEVENT
DTSTART:20200818T123000Z
DTEND:20200818T130000Z
X-MICROSOFT-CDO-ALLDAYEVENT:FALSE
SUMMARY:Ribbon Cutting - Good Samaritan Therapy & Sports Performance Center
DESCRIPTION:Join us for a Ribbon Cutting at the Good Samaritan Therapy & Sports Performance Center! \n\n\n\nDate: Tuesday\, August 18th\n\nTime: 8:30 a.m.\n\nLocation: 2020 S. Clearview Drive\, Vincennes
X-ALT-DESC;FMTTYPE=text/html:Join us for a Ribbon Cutting at the Good Samaritan Therapy &amp\; Sports Performance Center!&nbsp\;<br />\n<br />\nDate: Tuesday\, August 18th<br />\nTime: 8:30 a.m.<br />\nLocation: 2020 S. Clearview Drive\, Vincennes
LOCATION:
UID:e.3273.117
SEQUENCE:3
DTSTAMP:20260424T220451Z
URL:https://business.knoxcountychamber.com/events/details/ribbon-cutting-good-samaritan-therapy-sports-performance-center-117
END:VEVENT

END:VCALENDAR
