BEGIN:VCALENDAR
VERSION:2.0
PRODID:-//ChamberMaster//Event Calendar 2.0//EN
METHOD:PUBLISH
X-PUBLISHED-TTL:P3D
REFRESH-INTERVAL:P3D
CALSCALE:GREGORIAN
BEGIN:VEVENT
DTSTART:20210902T163000Z
DTEND:20210902T170000Z
X-MICROSOFT-CDO-ALLDAYEVENT:FALSE
SUMMARY:Ribbon Cutting - Groups Recover Together Grand Re-Opening
DESCRIPTION:Join us for a Ribbon Cutting to celebrate Groups Recover Together's Grand Re-Opening on Thursday\, September 2nd at 12:30 PM.
X-ALT-DESC;FMTTYPE=text/html:Join us for a Ribbon Cutting to celebrate Groups Recover Together&#39\;s Grand Re-Opening on Thursday\, September 2nd at 12:30 PM.
LOCATION:
UID:e.3273.180
SEQUENCE:3
DTSTAMP:20260422T153135Z
URL:https://business.knoxcountychamber.com/events/details/ribbon-cutting-groups-recover-together-grand-re-opening-180
END:VEVENT

END:VCALENDAR
