BEGIN:VCALENDAR
VERSION:2.0
PRODID:-//ChamberMaster//Event Calendar 2.0//EN
METHOD:PUBLISH
X-PUBLISHED-TTL:P3D
REFRESH-INTERVAL:P3D
CALSCALE:GREGORIAN
BEGIN:VEVENT
DTSTART:20191121T170000Z
DTEND:20191121T180000Z
X-MICROSOFT-CDO-ALLDAYEVENT:FALSE
SUMMARY:Ribbon Cutting - Heroes Bar & Grill
DESCRIPTION:Join us for the Ribbon Cutting at Heroes Bar & Grill at 12 PM! They are located at 103 N Main Street in Bicknell.
X-ALT-DESC;FMTTYPE=text/html:Join us for the Ribbon Cutting at Heroes Bar &amp\; Grill at 12 PM! They are located at 103 N Main Street in Bicknell.
LOCATION:
UID:e.3273.73
SEQUENCE:3
DTSTAMP:20260425T133257Z
URL:https://business.knoxcountychamber.com/events/details/ribbon-cutting-heroes-bar-grill-73
END:VEVENT

END:VCALENDAR
