BEGIN:VCALENDAR
VERSION:2.0
PRODID:-//ChamberMaster//Event Calendar 2.0//EN
METHOD:PUBLISH
X-PUBLISHED-TTL:P3D
REFRESH-INTERVAL:P3D
CALSCALE:GREGORIAN
BEGIN:VEVENT
DTSTART:20210914T193000Z
DTEND:20210914T194500Z
X-MICROSOFT-CDO-ALLDAYEVENT:FALSE
SUMMARY:Ribbon Cutting - JW Swirls
DESCRIPTION:Join us in celebrating the 1 year anniversary at JW Swirls with a Ribbon Cutting on Tuesday\, September 14 at 3:30 PM!
X-ALT-DESC;FMTTYPE=text/html:Join us in celebrating the 1 year anniversary at JW Swirls with a Ribbon Cutting on Tuesday\, September 14 at 3:30 PM!&nbsp\;
LOCATION:
UID:e.3273.183
SEQUENCE:3
DTSTAMP:20260422T153008Z
URL:https://business.knoxcountychamber.com/events/details/ribbon-cutting-jw-swirls-183
END:VEVENT

END:VCALENDAR
