BEGIN:VCALENDAR
VERSION:2.0
PRODID:-//ChamberMaster//Event Calendar 2.0//EN
METHOD:PUBLISH
X-PUBLISHED-TTL:P3D
REFRESH-INTERVAL:P3D
CALSCALE:GREGORIAN
BEGIN:VEVENT
DTSTART:20200730T200000Z
DTEND:20200730T203000Z
X-MICROSOFT-CDO-ALLDAYEVENT:FALSE
SUMMARY:Ribbon Cutting - KCARC Civitan Children's Center
DESCRIPTION:Join us for a Ribbon Cutting at KCARC's Civitan Children's Center to celebrate their re-opening! Come and see the updated classrooms and facility.\n\n\n\nDate: Thursday\, July 30\n\nTime: 4 PM\n\nLocation: 1602 N 11th St.\, Vincennes\n\n\n\nMasks are required to attend this event.
X-ALT-DESC;FMTTYPE=text/html:Join us for a Ribbon Cutting at KCARC&#39\;s Civitan Children&#39\;s Center to celebrate their re-opening! Come and see the updated classrooms and facility.<br />\n<br />\nDate: Thursday\, July 30<br />\nTime: 4 PM<br />\nLocation: 1602 N 11th St.\, Vincennes<br />\n<br />\nMasks are required to attend this event.
LOCATION:
UID:e.3273.115
SEQUENCE:3
DTSTAMP:20260424T233515Z
URL:https://business.knoxcountychamber.com/events/details/ribbon-cutting-kcarc-civitan-children-s-center-115
END:VEVENT

END:VCALENDAR
