BEGIN:VCALENDAR
VERSION:2.0
PRODID:-//ChamberMaster//Event Calendar 2.0//EN
METHOD:PUBLISH
X-PUBLISHED-TTL:P3D
REFRESH-INTERVAL:P3D
CALSCALE:GREGORIAN
BEGIN:VEVENT
DTSTART:20210416T163000Z
DTEND:20210416T164500Z
X-MICROSOFT-CDO-ALLDAYEVENT:FALSE
SUMMARY:Ribbon Cutting - Lana R. Helms DDS MSD PC
DESCRIPTION:Join us for a Ribbon Cutting at Lana R. Helms DDS\, MSD\, PC! The Ribbon Cutting will begin at 12:30 PM on Friday\, April 16. They are located at 2848 Ford Road\, Vincennes.
X-ALT-DESC;FMTTYPE=text/html:Join us for a Ribbon Cutting at Lana R. Helms DDS\, MSD\, PC! The Ribbon Cutting will begin at 12:30 PM on Friday\, April 16. They are located at 2848 Ford Road\, Vincennes.
LOCATION:
UID:e.3273.151
SEQUENCE:3
DTSTAMP:20260424T100127Z
URL:https://business.knoxcountychamber.com/events/details/ribbon-cutting-lana-r-helms-dds-msd-pc-151
END:VEVENT

END:VCALENDAR
