BEGIN:VCALENDAR
VERSION:2.0
PRODID:-//ChamberMaster//Event Calendar 2.0//EN
METHOD:PUBLISH
X-PUBLISHED-TTL:P3D
REFRESH-INTERVAL:P3D
CALSCALE:GREGORIAN
BEGIN:VEVENT
DTSTART:20210409T193000Z
DTEND:20210409T194500Z
X-MICROSOFT-CDO-ALLDAYEVENT:FALSE
SUMMARY:Ribbon Cutting - Main Street Bobe's
DESCRIPTION:Join us for a Ribbon Cutting at Main Street Bobe's on Friday\, April 9 at 3:30 p.m.! They have recently gone under new ownership and have renovated their dining room!
X-ALT-DESC;FMTTYPE=text/html:Join us for a Ribbon Cutting at Main Street Bobe&#39\;s on Friday\, April 9 at 3:30 p.m.! They have recently gone under new ownership and have renovated their dining room!&nbsp\;
LOCATION:
UID:e.3273.152
SEQUENCE:3
DTSTAMP:20260424T112657Z
URL:https://business.knoxcountychamber.com/events/details/ribbon-cutting-main-street-bobe-s-152
END:VEVENT

END:VCALENDAR
