BEGIN:VCALENDAR
VERSION:2.0
PRODID:-//ChamberMaster//Event Calendar 2.0//EN
METHOD:PUBLISH
X-PUBLISHED-TTL:P3D
REFRESH-INTERVAL:P3D
CALSCALE:GREGORIAN
BEGIN:VEVENT
DTSTART:20200727T200000Z
DTEND:20200727T203000Z
X-MICROSOFT-CDO-ALLDAYEVENT:FALSE
SUMMARY:Ribbon Cutting - Morgan Walker Country Financial
DESCRIPTION:Join us for a Ribbon Cutting celebrating Morgan Walker at Country Financial in Lawrenceville! \n\n\n\nDate: Monday\, July 27\n\nTime: 4 p.m. EDT / 3 p.m. CDT\n\nLocation: 8820 State Route 1\, Lawrenceville\, IL.
X-ALT-DESC;FMTTYPE=text/html:Join us for a Ribbon Cutting celebrating Morgan Walker at Country Financial in Lawrenceville!&nbsp\;<br />\n<br />\nDate: Monday\, July 27<br />\nTime: 4 p.m. EDT / 3 p.m. CDT<br />\nLocation: 8820 State Route 1\, Lawrenceville\, IL.
LOCATION:
UID:e.3273.114
SEQUENCE:3
DTSTAMP:20260424T234024Z
URL:https://business.knoxcountychamber.com/events/details/ribbon-cutting-morgan-walker-country-financial-114
END:VEVENT

END:VCALENDAR
