BEGIN:VCALENDAR
VERSION:2.0
PRODID:-//ChamberMaster//Event Calendar 2.0//EN
METHOD:PUBLISH
X-PUBLISHED-TTL:P3D
REFRESH-INTERVAL:P3D
CALSCALE:GREGORIAN
BEGIN:VEVENT
DTSTART:20210505T200000Z
DTEND:20210505T201500Z
X-MICROSOFT-CDO-ALLDAYEVENT:FALSE
SUMMARY:Ribbon Cutting - Mortgage Masters
DESCRIPTION:Join us for a Ribbon Cutting for Mortgage Masters of Indiana! The Ribbon Cutting will take place at 4:00 p.m.\n\n\n\nDate: Wednesday\, May 5\n\nTime: 4:00 p.m.\n\nLocation: 2801 N 6th Street\, Vincennes
X-ALT-DESC;FMTTYPE=text/html:Join us for a Ribbon Cutting for Mortgage Masters of Indiana! The Ribbon Cutting will take place at 4:00 p.m.<br />\n<br />\nDate: Wednesday\, May 5<br />\nTime: 4:00 p.m.<br />\nLocation: 2801 N 6th Street\, Vincennes
LOCATION:
UID:e.3273.153
SEQUENCE:3
DTSTAMP:20260424T082349Z
URL:https://business.knoxcountychamber.com/events/details/ribbon-cutting-mortgage-masters-153
END:VEVENT

END:VCALENDAR
