BEGIN:VCALENDAR
VERSION:2.0
PRODID:-//ChamberMaster//Event Calendar 2.0//EN
METHOD:PUBLISH
X-PUBLISHED-TTL:P3D
REFRESH-INTERVAL:P3D
CALSCALE:GREGORIAN
BEGIN:VEVENT
DTSTART:20210723T160000Z
DTEND:20210723T161500Z
X-MICROSOFT-CDO-ALLDAYEVENT:FALSE
SUMMARY:Ribbon Cutting - Niehaus Lumber
DESCRIPTION:Join us for a Ribbon Cutting at Niehaus Lumber to celebrate their renovation! \n\n\n\nDate: Friday\, July 23\n\nTime: 12 PM\n\nLocation: 1023 Main St. Vincennes
X-ALT-DESC;FMTTYPE=text/html:Join us for a Ribbon Cutting at Niehaus Lumber to celebrate their renovation!&nbsp\;<br />\n<br />\nDate: Friday\, July 23<br />\nTime: 12 PM<br />\nLocation: 1023 Main St. Vincennes
LOCATION:
UID:e.3273.171
SEQUENCE:3
DTSTAMP:20260422T182448Z
URL:https://business.knoxcountychamber.com/events/details/ribbon-cutting-niehaus-lumber-171
END:VEVENT

END:VCALENDAR
