BEGIN:VCALENDAR
VERSION:2.0
PRODID:-//ChamberMaster//Event Calendar 2.0//EN
METHOD:PUBLISH
X-PUBLISHED-TTL:P3D
REFRESH-INTERVAL:P3D
CALSCALE:GREGORIAN
BEGIN:VEVENT
DTSTART:20191216T213000Z
DTEND:20191216T223000Z
X-MICROSOFT-CDO-ALLDAYEVENT:FALSE
SUMMARY:Ribbon Cutting - Onyx Studio
DESCRIPTION:Join us for the Ribbon Cutting at Onyx Studio located at 1317 Washington Avenue! The Ribbon Cutting will be at 4:30 PM with an Open House to follow.
X-ALT-DESC;FMTTYPE=text/html:Join us for the Ribbon Cutting at Onyx Studio located at 1317 Washington Avenue! The Ribbon Cutting will be at 4:30 PM with an Open House to follow.
LOCATION:
UID:e.3273.75
SEQUENCE:3
DTSTAMP:20260425T101900Z
URL:https://business.knoxcountychamber.com/events/details/ribbon-cutting-onyx-studio-75
END:VEVENT

END:VCALENDAR
