BEGIN:VCALENDAR
VERSION:2.0
PRODID:-//ChamberMaster//Event Calendar 2.0//EN
METHOD:PUBLISH
X-PUBLISHED-TTL:P3D
REFRESH-INTERVAL:P3D
CALSCALE:GREGORIAN
BEGIN:VEVENT
DTSTART:20190917T210000Z
DTEND:20190917T230000Z
X-MICROSOFT-CDO-ALLDAYEVENT:FALSE
SUMMARY:Ribbon Cutting/Open House - KCARC's The Shop
DESCRIPTION:The Shop is an industrial chic training environment that was created for hands on learning of life and work readiness skills. The Shop has an apartment\, laundry\, kitchen\, and meeting areas. Our goal at the Shop is to train and prepare all individuals with life and work readiness skills in order to live a fulfilling life that everyone desires.
X-ALT-DESC;FMTTYPE=text/html:The Shop is an industrial chic training environment that was created for hands on learning of life and work readiness skills. The Shop has an apartment\, laundry\, kitchen\, and meeting areas. Our goal at the Shop is to train and prepare all individuals with life and work readiness skills in order to live a fulfilling life that everyone desires.
LOCATION:
UID:e.3273.63
SEQUENCE:3
DTSTAMP:20260425T144506Z
URL:https://business.knoxcountychamber.com/events/details/ribbon-cutting-open-house-kcarc-s-the-shop-63
END:VEVENT

END:VCALENDAR
