BEGIN:VCALENDAR
VERSION:2.0
PRODID:-//ChamberMaster//Event Calendar 2.0//EN
METHOD:PUBLISH
X-PUBLISHED-TTL:P3D
REFRESH-INTERVAL:P3D
CALSCALE:GREGORIAN
BEGIN:VEVENT
DTSTART:20191113T210000Z
DTEND:20191114T000000Z
X-MICROSOFT-CDO-ALLDAYEVENT:FALSE
SUMMARY:Ribbon Cutting - Oui Aesthetics & Wellness
DESCRIPTION:Join us for the Grand Opening at Oui Aesthetics & Wellness! The Ribbon Cutting will take place at 4 PM\, with an Open House Reception following.
X-ALT-DESC;FMTTYPE=text/html:Join us for the Grand Opening at Oui Aesthetics &amp\; Wellness! The Ribbon Cutting will take place at 4 PM\, with an Open House Reception following.&nbsp\;
LOCATION:
UID:e.3273.72
SEQUENCE:3
DTSTAMP:20260425T120606Z
URL:https://business.knoxcountychamber.com/events/details/ribbon-cutting-oui-aesthetics-wellness-72
END:VEVENT

END:VCALENDAR
