BEGIN:VCALENDAR
VERSION:2.0
PRODID:-//ChamberMaster//Event Calendar 2.0//EN
METHOD:PUBLISH
X-PUBLISHED-TTL:P3D
REFRESH-INTERVAL:P3D
CALSCALE:GREGORIAN
BEGIN:VEVENT
DTSTART:20210713T170000Z
DTEND:20210713T171000Z
X-MICROSOFT-CDO-ALLDAYEVENT:FALSE
SUMMARY:Ribbon Cutting - Owen County State Bank
DESCRIPTION:Join us for the Ribbon Cutting at Owen County State Bank in Bicknell!\n\n\n\nDate: Tuesday\, July 13\n\nTime: 11:30AM\n\nLocation: 215 N Washington St.\, Bicknell
X-ALT-DESC;FMTTYPE=text/html:Join us for the Ribbon Cutting at Owen County State Bank in Bicknell!<br />\n<br />\nDate: Tuesday\, July 13<br />\nTime: 11:30AM<br />\nLocation: 215 N Washington St.\, Bicknell
LOCATION:
UID:e.3273.168
SEQUENCE:3
DTSTAMP:20260422T182509Z
URL:https://business.knoxcountychamber.com/events/details/ribbon-cutting-owen-county-state-bank-168
END:VEVENT

END:VCALENDAR
