BEGIN:VCALENDAR
VERSION:2.0
PRODID:-//ChamberMaster//Event Calendar 2.0//EN
METHOD:PUBLISH
X-PUBLISHED-TTL:P3D
REFRESH-INTERVAL:P3D
CALSCALE:GREGORIAN
BEGIN:VEVENT
DTSTART:20210618T200000Z
DTEND:20210618T201500Z
X-MICROSOFT-CDO-ALLDAYEVENT:FALSE
SUMMARY:Ribbon Cutting - Parlour on Main
DESCRIPTION:Join us for a Ribbon Cutting to celebrate the 1 year anniversary of Parlour on Main! \n\n\n\nDate: Friday\, June 18\, 2021\n\nTime: 4:00 p.m.\n\nLocation: 122 Main St.\, Vincennes
X-ALT-DESC;FMTTYPE=text/html:Join us for a Ribbon Cutting to celebrate the 1 year anniversary of Parlour on Main!&nbsp\;<br />\n<br />\nDate: Friday\, June 18\, 2021<br />\nTime: 4:00 p.m.<br />\nLocation: 122 Main St.\, Vincennes
LOCATION:
UID:e.3273.158
SEQUENCE:3
DTSTAMP:20260422T194724Z
URL:https://business.knoxcountychamber.com/events/details/ribbon-cutting-parlour-on-main-158
END:VEVENT

END:VCALENDAR
