BEGIN:VCALENDAR
VERSION:2.0
PRODID:-//ChamberMaster//Event Calendar 2.0//EN
METHOD:PUBLISH
X-PUBLISHED-TTL:P3D
REFRESH-INTERVAL:P3D
CALSCALE:GREGORIAN
BEGIN:VEVENT
DTSTART:20191227T153000Z
DTEND:20191227T160000Z
X-MICROSOFT-CDO-ALLDAYEVENT:FALSE
SUMMARY:Ribbon Cutting - Procopio's Pizza & Pasta
DESCRIPTION:Join us at Procopio's Pizza & Pasta for a Ribbon Cutting honoring their newly renovated addition!\n\n\n\nDate: Friday\, December 27\n\nTime: 10:30 AM\n\nLocation: 127 N 2nd St\, Vincennes
X-ALT-DESC;FMTTYPE=text/html:Join us at Procopio&#39\;s Pizza &amp\; Pasta for a Ribbon Cutting honoring their newly renovated addition!<br />\n<br />\nDate: Friday\, December 27<br />\nTime: 10:30 AM<br />\nLocation:&nbsp\;<span style="color: rgb(34\, 34\, 34)\; font-family: Roboto\, arial\, sans-serif\; font-size: 14px\;">127 N 2nd St\, Vincennes</span>
LOCATION:
UID:e.3273.77
SEQUENCE:3
DTSTAMP:20260425T102131Z
URL:https://business.knoxcountychamber.com/events/details/ribbon-cutting-procopio-s-pizza-pasta-77
END:VEVENT

END:VCALENDAR
