BEGIN:VCALENDAR
VERSION:2.0
PRODID:-//ChamberMaster//Event Calendar 2.0//EN
METHOD:PUBLISH
X-PUBLISHED-TTL:P3D
REFRESH-INTERVAL:P3D
CALSCALE:GREGORIAN
BEGIN:VEVENT
DTSTART:20210624T203000Z
DTEND:20210624T204500Z
X-MICROSOFT-CDO-ALLDAYEVENT:FALSE
SUMMARY:Ribbon Cutting - Safe Harbor Garden
DESCRIPTION:Join us for a Ribbon Cutting for the Safe Harbor Garden! Children and Family Services\, Corp has recieved a grant to build a residential park as a part of sexual violence prevention and partnered with the City of Vincennes to accomplish the park. The Ribbon Cutting will take place at 4:30 p.m.\n\n \n\nDate: Thursday\, June 24\n\nTime: 4:30 p.m.\n\nLocation: 803 N 8th Street\, Vincennes
X-ALT-DESC;FMTTYPE=text/html:Join us for a Ribbon Cutting for the Safe Harbor Garden! Children and Family Services\, Corp has recieved a grant to build a residential park as a part of sexual violence prevention and partnered with the City of Vincennes to accomplish the park. The Ribbon Cutting will take place at 4:30 p.m.<br />\n&nbsp\;<br />\nDate: Thursday\, June 24<br />\nTime: 4:30 p.m.<br />\nLocation: 803 N 8th Street\, Vincennes
LOCATION:
UID:e.3273.160
SEQUENCE:3
DTSTAMP:20260422T194937Z
URL:https://business.knoxcountychamber.com/events/details/ribbon-cutting-safe-harbor-garden-160
END:VEVENT

END:VCALENDAR
