BEGIN:VCALENDAR
VERSION:2.0
PRODID:-//ChamberMaster//Event Calendar 2.0//EN
METHOD:PUBLISH
X-PUBLISHED-TTL:P3D
REFRESH-INTERVAL:P3D
CALSCALE:GREGORIAN
BEGIN:VEVENT
DTSTART:20210205T170000Z
DTEND:20210205T171500Z
X-MICROSOFT-CDO-ALLDAYEVENT:FALSE
SUMMARY:Ribbon Cutting - Simmons Driving School
DESCRIPTION:Join us for a Ribbon Cutting for Simmons Driving School! The Ribbon Cutting will take place at 12:00 p.m.\n\n\n\nDate: Friday\, February 5\n\nTime: 12:00 p.m.\n\nLocation: 2129 Washington Ave.\, Vincennes
X-ALT-DESC;FMTTYPE=text/html:Join us for a Ribbon Cutting for Simmons Driving School! The Ribbon Cutting will take place at 12:00 p.m.<br />\n<br />\nDate: Friday\, February 5<br />\nTime: 12:00 p.m.<br />\nLocation: 2129 Washington Ave.\, Vincennes
LOCATION:
UID:e.3273.148
SEQUENCE:3
DTSTAMP:20260424T141257Z
URL:https://business.knoxcountychamber.com/events/details/ribbon-cutting-simmons-driving-school-148
END:VEVENT

END:VCALENDAR
