BEGIN:VCALENDAR
VERSION:2.0
PRODID:-//ChamberMaster//Event Calendar 2.0//EN
METHOD:PUBLISH
X-PUBLISHED-TTL:P3D
REFRESH-INTERVAL:P3D
CALSCALE:GREGORIAN
BEGIN:VEVENT
DTSTART:20210809T183000Z
DTEND:20210809T184500Z
X-MICROSOFT-CDO-ALLDAYEVENT:FALSE
SUMMARY:Ribbon Cutting - Texas Roadhouse
DESCRIPTION:Join us for the Grand Opening at Texas Roadhouse!\n\n\n\nDate: Monday\, August 9\n\nTime: 2:30 PM\n\nLocation: 401 Kimmel Road\, Vincennes
X-ALT-DESC;FMTTYPE=text/html:Join us for the Grand Opening at Texas Roadhouse!<br />\n<br />\nDate: Monday\, August 9<br />\nTime: 2:30 PM<br />\nLocation: 401 Kimmel Road\, Vincennes
LOCATION:
UID:e.3273.173
SEQUENCE:3
DTSTAMP:20260422T182625Z
URL:https://business.knoxcountychamber.com/events/details/ribbon-cutting-texas-roadhouse-173
END:VEVENT

END:VCALENDAR
