BEGIN:VCALENDAR
VERSION:2.0
PRODID:-//ChamberMaster//Event Calendar 2.0//EN
METHOD:PUBLISH
X-PUBLISHED-TTL:P3D
REFRESH-INTERVAL:P3D
CALSCALE:GREGORIAN
BEGIN:VEVENT
DTSTART:20210514T203000Z
DTEND:20210514T204500Z
X-MICROSOFT-CDO-ALLDAYEVENT:FALSE
SUMMARY:Ribbon Cutting - The Pantheon
DESCRIPTION:Join us for a Ribbon Cutting at The Pantheon to celebrate the 100th Anniversary! The Ribbon Cutting will take place at 4:30 p.m. with an Open House to follow. \n\n\n\nDate: Friday\, May 14\n\nTime: 4:30 p.m.\n\nLocation: The Pantheon\, 428 Main Street\, Vincennes\, IN.
X-ALT-DESC;FMTTYPE=text/html:Join us for a Ribbon Cutting at The Pantheon to celebrate the 100th Anniversary! The Ribbon Cutting will take place at 4:30 p.m. with an Open House to follow.&nbsp\;<br />\n<br />\nDate: Friday\, May 14<br />\nTime: 4:30 p.m.<br />\nLocation: The Pantheon\, 428 Main Street\, Vincennes\, IN.&nbsp\;
LOCATION:
UID:e.3273.157
SEQUENCE:3
DTSTAMP:20260424T082442Z
URL:https://business.knoxcountychamber.com/events/details/ribbon-cutting-the-pantheon-157
END:VEVENT

END:VCALENDAR
