BEGIN:VCALENDAR
VERSION:2.0
PRODID:-//ChamberMaster//Event Calendar 2.0//EN
METHOD:PUBLISH
X-PUBLISHED-TTL:P3D
REFRESH-INTERVAL:P3D
CALSCALE:GREGORIAN
BEGIN:VEVENT
DTSTART:20190625T160000Z
DTEND:20190625T170000Z
X-MICROSOFT-CDO-ALLDAYEVENT:FALSE
SUMMARY:Ribbon Cutting - True-Blue Storage
DESCRIPTION:Please join us for the ribbon cutting ceremony of True-Blue Storage! Located at 3122 Hillcrest Road\, Vincennes\, IN.
X-ALT-DESC;FMTTYPE=text/html:Please join us for the ribbon cutting ceremony of True-Blue Storage! Located at 3122 Hillcrest Road\, Vincennes\, IN.&nbsp\;
LOCATION:
UID:e.3273.54
SEQUENCE:3
DTSTAMP:20260425T190732Z
URL:https://business.knoxcountychamber.com/events/details/ribbon-cutting-true-blue-storage-54
END:VEVENT

END:VCALENDAR
