BEGIN:VCALENDAR
VERSION:2.0
PRODID:-//ChamberMaster//Event Calendar 2.0//EN
METHOD:PUBLISH
X-PUBLISHED-TTL:P3D
REFRESH-INTERVAL:P3D
CALSCALE:GREGORIAN
BEGIN:VEVENT
DTSTART:20190921T130000Z
DTEND:20190921T193000Z
X-MICROSOFT-CDO-ALLDAYEVENT:FALSE
SUMMARY:RibFest
DESCRIPTION:You are invited to the semi-annual Dewig Meats & Valley Party Supply RIBFEST. Saturday\, September 21st doors open at 9am. Ribs\, whole BBQ Chicken\, Pork Loins and the Dewig famous brats will be on sale...hot and ready to eat. \n\n\n\nPre-orders are encouraged. Give Valley a call before Friday the 20th to place an order. 812-882-8730
X-ALT-DESC;FMTTYPE=text/html:You are invited to the semi-annual Dewig Meats &amp\; Valley Party Supply RIBFEST. Saturday\, September 21st doors open at 9am. Ribs\, whole BBQ Chicken\, Pork Loins and the Dewig famous brats will be on sale...hot and ready to eat.&nbsp\;<br />\n<br />\nPre-orders are encouraged. Give Valley a call before Friday the 20th to place an order. 812-882-8730&nbsp\;
LOCATION:Valley Party Supply 310 South 4th Street Vincennes
UID:e.3273.64
SEQUENCE:3
DTSTAMP:20260425T144912Z
URL:https://business.knoxcountychamber.com/events/details/ribfest-64
END:VEVENT

END:VCALENDAR
