BEGIN:VCALENDAR
VERSION:2.0
PRODID:-//ChamberMaster//Event Calendar 2.0//EN
METHOD:PUBLISH
X-PUBLISHED-TTL:P3D
REFRESH-INTERVAL:P3D
CALSCALE:GREGORIAN
BEGIN:VEVENT
DTSTART:20240928T000000Z
DTEND:20240929T200000Z
X-MICROSOFT-CDO-ALLDAYEVENT:FALSE
SUMMARY:Sandborn Fall Festival
DESCRIPTION:Members of the Sandborn Community are coming together again for Annual Sandborn Fall Festival the 4th weekend in September 2024!!! This is a collaborative event BY the community FOR the community in the Sandborn Community Park and Buildings. We have over 75 vendors and lots of activities for the whole family!! A percentage of the profits go back to the Sandborn Community!! Be sure to follow the Facebook and Event Page as we provide all the information to come in the following months! Looking to have a booth\, your business be a sponsor\, or get some volunteer hours??? Let Renee know! 812-798-1398
X-ALT-DESC;FMTTYPE=text/html:Members of the Sandborn Community are coming together again for Annual Sandborn Fall Festival the 4th weekend in September 2024!!! This is a collaborative event BY the community FOR the community in the Sandborn Community Park and Buildings. We have over 75 vendors and lots of activities for the whole family!! A percentage of the profits go back to the Sandborn Community!! Be sure to follow the Facebook and Event Page as we provide all the information to come in the following months! Looking to have a booth\, your business be a sponsor\, or get some volunteer hours??? Let Renee know! 812-798-1398
LOCATION:Sandborn Community Building & Park 200 S Ross Street Sandborn IN 47578
UID:e.3273.4616
SEQUENCE:3
DTSTAMP:20260419T181626Z
URL:https://business.knoxcountychamber.com/events/details/sandborn-fall-festival-4616
END:VEVENT

END:VCALENDAR
