BEGIN:VCALENDAR
VERSION:2.0
PRODID:-//ChamberMaster//Event Calendar 2.0//EN
METHOD:PUBLISH
X-PUBLISHED-TTL:P3D
REFRESH-INTERVAL:P3D
CALSCALE:GREGORIAN
BEGIN:VEVENT
DTSTART;VALUE=DATE:20191130
DTEND;VALUE=DATE:20191201
TRANSP:TRANSPARENT
X-MICROSOFT-CDO-ALLDAYEVENT:TRUE
SUMMARY:Small Business Saturday!
DESCRIPTION:Celebrate Small Business Saturday by shopping local this holiday season!
X-ALT-DESC;FMTTYPE=text/html:Celebrate Small Business Saturday by shopping local this holiday season!
LOCATION:
UID:e.3273.74
SEQUENCE:3
DTSTAMP:20260425T115133Z
URL:https://business.knoxcountychamber.com/events/details/small-business-saturday-74
END:VEVENT

END:VCALENDAR
