BEGIN:VCALENDAR
VERSION:2.0
PRODID:-//ChamberMaster//Event Calendar 2.0//EN
METHOD:PUBLISH
X-PUBLISHED-TTL:P3D
REFRESH-INTERVAL:P3D
CALSCALE:GREGORIAN
BEGIN:VEVENT
DTSTART:20210604T220000Z
DTEND:20210605T020000Z
X-MICROSOFT-CDO-ALLDAYEVENT:FALSE
SUMMARY:Spring on Main
DESCRIPTION:Save the date of Friday\, June 4th. Spring on Main in conjunction with First Friday Art Walk on Main Street. Come enjoy art\, live music\, children's activities\, cars\, and food. Beer and wine tasting along with a cash bar. Shop at participating downtown businesses. Hope to see you there!
X-ALT-DESC;FMTTYPE=text/html:<span background-color:="" font-size:="" segoe="" style="font-family: " ui="">Save the date of Friday\, June 4th. Spring on Main in conjunction with First Friday Art Walk on Main Street. Come enjoy art\, live music\, children&#39\;s activities\, cars\, and food. Beer and wine tasting along with a cash bar. Shop at participating downtown businesses. Hope to see you there!</span>
LOCATION:
UID:e.3273.162
SEQUENCE:3
DTSTAMP:20260422T194412Z
URL:https://business.knoxcountychamber.com/events/details/spring-on-main-162
END:VEVENT

END:VCALENDAR
