BEGIN:VCALENDAR
VERSION:2.0
PRODID:-//ChamberMaster//Event Calendar 2.0//EN
METHOD:PUBLISH
X-PUBLISHED-TTL:P3D
REFRESH-INTERVAL:P3D
CALSCALE:GREGORIAN
BEGIN:VEVENT
DTSTART:20190222T163000Z
DTEND:20190222T173000Z
X-MICROSOFT-CDO-ALLDAYEVENT:FALSE
SUMMARY:Tammy Wilson State Farm Ribbon Cutting
DESCRIPTION:Please join us for the grand opening of Tammy Wilson State Farm's new location!
X-ALT-DESC;FMTTYPE=text/html:Please join us for the grand opening of Tammy Wilson State Farm&#39\;s new location!&nbsp\;
LOCATION:
UID:e.3273.49
SEQUENCE:3
DTSTAMP:20260426T005608Z
URL:https://business.knoxcountychamber.com/events/details/tammy-wilson-state-farm-ribbon-cutting-49
END:VEVENT

END:VCALENDAR
