BEGIN:VCALENDAR
VERSION:2.0
PRODID:-//ChamberMaster//Event Calendar 2.0//EN
METHOD:PUBLISH
X-PUBLISHED-TTL:P3D
REFRESH-INTERVAL:P3D
CALSCALE:GREGORIAN
BEGIN:VEVENT
DTSTART;VALUE=DATE:20211025
DTEND;VALUE=DATE:20211101
TRANSP:TRANSPARENT
X-MICROSOFT-CDO-ALLDAYEVENT:TRUE
SUMMARY:Taste of Knox County
DESCRIPTION:We are excited to announce that Taste of Knox County will be October 25-31\, 2021. Taste of Knox County is the premiere Knox County wide dining experience\, giving locals the opportunity to enjoy great deals at participating restaurants. The goal is to support our local restaurants\, bars and specialty shops by highlighting a variety of menus\, from casual to fine dining\, as well as stimulating business and revenue for our restaurants.\n\nDozens of Knox County restaurants will feature special menu items\, promotions\, discounts and highlight signature dishes. Customers have the chance to win prizes by sharing photos to their Facebook and Instagram. All they need to do is tag the Knox County Chamber and use the hashtag #tasteofknoxco for a chance to win!\n\nTo view a full list of participating restaurants\, please go to https://www.knoxcountychamber.com/taste-of-knox-county/
X-ALT-DESC;FMTTYPE=text/html:<div class="kvgmc6g5 cxmmr5t8 oygrvhab hcukyx3x c1et5uql" style="overflow-wrap: break-word\; margin: 0px\; font-family: &quot\;Segoe UI Historic&quot\;\, &quot\;Segoe UI&quot\;\, Helvetica\, Arial\, sans-serif\; color: rgb(5\, 5\, 5)\; font-size: 15px\;">We are excited to announce that Taste of Knox County will be October 25-31\, 2021. Taste of Knox County is the premiere Knox County wide dining experience\, giving locals the opportunity to enjoy great deals at participating restaurants. The goal is to support our local restaurants\, bars and specialty shops by highlighting a variety of menus\, from casual to fine dining\, as well as stimulating business and revenue for our restaurants.</div>\n\n<div class="o9v6fnle cxmmr5t8 oygrvhab hcukyx3x c1et5uql" style="overflow-wrap: break-word\; margin: 0.5em 0px 0px\; font-family: &quot\;Segoe UI Historic&quot\;\, &quot\;Segoe UI&quot\;\, Helvetica\, Arial\, sans-serif\; color: rgb(5\, 5\, 5)\; font-size: 15px\;">Dozens of Knox County restaurants will feature special menu items\, promotions\, discounts and highlight signature dishes. Customers have the chance to win prizes by sharing photos to their Facebook and Instagram. All they need to do is tag the Knox County Chamber and use the hashtag&nbsp\;<a class="oajrlxb2 g5ia77u1 qu0x051f esr5mh6w e9989ue4 r7d6kgcz rq0escxv nhd2j8a9 nc684nl6 p7hjln8o kvgmc6g5 cxmmr5t8 oygrvhab hcukyx3x jb3vyjys rz4wbd8a qt6c0cv9 a8nywdso i1ao9s8h esuyzwwr f1sip0of lzcic4wl oo9gr5id gpro0wi8 lrazzd5p" href="https://www.facebook.com/hashtag/tasteofknoxco?__eep__=6&amp\;__cft__[0]=AZXXg1w4Tn7TN_famX2uz2e5V12EJPS6tSs5DS2uwiT6DWMawHu2Sqo74kjsdqiURMrFFKZiDkM26WkhpDgZXF1wG7NRcOBbGA9O_faRbbcjtNOZ_CTmjsOxukrfI4x4aFodVNZul_kix8bCoGHY37UFMqON6HwVeQu6CndNzgXuLA&amp\;__tn__=q" role="link" style="color: var(--primary-text)\; cursor: pointer\; text-decoration-line: none\; outline: none\; list-style: none\; border-width: 0px\; border-style: initial\; border-color: initial\; padding: 0px\; margin: 0px\; touch-action: manipulation\; background-color: transparent\; text-align: inherit\; font-weight: 600\; display: inline\; -webkit-tap-highlight-color: transparent\; box-sizing: border-box\; font-family: inherit\;" tabindex="0">#tasteofknoxco</a>&nbsp\;for a chance to win!</div>\n\n<div class="o9v6fnle cxmmr5t8 oygrvhab hcukyx3x c1et5uql" style="overflow-wrap: break-word\; margin: 0.5em 0px 0px\; font-family: &quot\;Segoe UI Historic&quot\;\, &quot\;Segoe UI&quot\;\, Helvetica\, Arial\, sans-serif\; color: rgb(5\, 5\, 5)\; font-size: 15px\;">To view a full list of participating restaurants\, please go to&nbsp\;<a class="oajrlxb2 g5ia77u1 qu0x051f esr5mh6w e9989ue4 r7d6kgcz rq0escxv nhd2j8a9 nc684nl6 p7hjln8o kvgmc6g5 cxmmr5t8 oygrvhab hcukyx3x jb3vyjys rz4wbd8a qt6c0cv9 a8nywdso i1ao9s8h esuyzwwr f1sip0of lzcic4wl py34i1dx gpro0wi8" href="https://www.knoxcountychamber.com/taste-of-knox-county/?fbclid=IwAR2XRWnX_HeAL1uW4mb0GvRoSz-nu1JFzud0QkmhJOqsVIQi_zceCkaJWd4" rel="nofollow noopener" role="link" style="color: var(--blue-link)\; cursor: pointer\; text-decoration-line: none\; outline: none\; list-style: none\; border-width: 0px\; border-style: initial\; border-color: initial\; padding: 0px\; margin: 0px\; touch-action: manipulation\; background-color: transparent\; text-align: inherit\; display: inline\; -webkit-tap-highlight-color: transparent\; box-sizing: border-box\; font-family: inherit\;" tabindex="0" target="_blank">https://www.knoxcountychamber.com/taste-of-knox-county/</a></div>\n
LOCATION:
UID:e.3273.188
SEQUENCE:3
DTSTAMP:20260422T134032Z
URL:https://business.knoxcountychamber.com/events/details/taste-of-knox-county-188
END:VEVENT

END:VCALENDAR
