BEGIN:VCALENDAR
VERSION:2.0
PRODID:-//ChamberMaster//Event Calendar 2.0//EN
METHOD:PUBLISH
X-PUBLISHED-TTL:P3D
REFRESH-INTERVAL:P3D
CALSCALE:GREGORIAN
BEGIN:VEVENT
DTSTART:20190821T200000Z
DTEND:20190821T220000Z
X-MICROSOFT-CDO-ALLDAYEVENT:FALSE
SUMMARY:Trans-Care Ribbon Cutting
DESCRIPTION:Come join us to celebrate the ribbon cutting of the Station #8 for Trans-Care Ambulance. The Open House is immediately following the 4:00pm Ribbon Cutting Ceremony. Until 6:00pm\, you can relax\, grab some refreshments\, tour the station\, meet the crews and look inside the ambulances. You will be able to  see the differences contributing to Trans-Care's 27 years in business. Trans-Care came to Knox County in 2017. It took some time to find the perfect location for their station and then make Upgrades to be an ideal place to work\; but now  401 Vigo Street\, provides improved landscape and curb appeal to this corner of the business district as well as employ several in our community.
X-ALT-DESC;FMTTYPE=text/html:Come join us to celebrate the ribbon cutting of the Station #8 for Trans-Care Ambulance. The Open House is immediately following the 4:00pm Ribbon Cutting Ceremony. Until 6:00pm\, you can relax\, grab some refreshments\, tour the station\, meet the crews and look inside the ambulances. You will be able to &nbsp\;see the differences contributing to Trans-Care&rsquo\;s 27 years in business. Trans-Care came to Knox County in 2017. It took some time to find the perfect location for their station and then make Upgrades to be an ideal place to work\; but now &nbsp\;401 Vigo Street\, provides improved landscape and curb appeal to this corner of the business district as well as employ several in our community.
LOCATION:
UID:e.3273.59
SEQUENCE:3
DTSTAMP:20260425T160315Z
URL:https://business.knoxcountychamber.com/events/details/trans-care-ribbon-cutting-59
END:VEVENT

END:VCALENDAR
