BEGIN:VCALENDAR
VERSION:2.0
PRODID:-//ChamberMaster//Event Calendar 2.0//EN
METHOD:PUBLISH
X-PUBLISHED-TTL:P3D
REFRESH-INTERVAL:P3D
CALSCALE:GREGORIAN
BEGIN:VEVENT
DTSTART:20210807T120000Z
DTEND:20210807T180000Z
X-MICROSOFT-CDO-ALLDAYEVENT:FALSE
SUMMARY:Travis Burkhart Foundation Golf Scramble Presented by First Savings Bank
DESCRIPTION:The 14th Annual Travis Burkhart Foundation Golf Scramble will be on August 7\, 2021! We are thrilled to continue our partnership with First Savings Bank in presenting this popular event! This year the event will only have an 8 a.m. tee time and is limited to the first 36 paid teams. Breakfast will served and provided by First Savings Bank. Lunch will be provided after golf. Awards\, a raffle and the traditional putt off will also take place after golf. Registration for a four person team is $280 if paid in advance. Registration paid on the day of golf\, if spots available\, is $320. Please contact Jason Omer @ 812-486-6531or Mike Burkhart @ 812-257-4493. You can also send us an email @ travisburkhartfoundation@gmail.com for more information. We hope to see you there!
X-ALT-DESC;FMTTYPE=text/html:The 14th Annual Travis Burkhart Foundation Golf Scramble will be on August 7\, 2021! We are thrilled to continue our partnership with First Savings Bank in presenting this popular event! This year the event will only have an 8 a.m. tee time and is limited to the first 36 paid teams. Breakfast will served and provided by First Savings Bank. Lunch will be provided after golf. Awards\, a raffle and the traditional putt off will also take place after golf. Registration for a four person team is $280 if paid in advance. Registration paid on the day of golf\, if spots available\, is $320. Please contact Jason Omer @ 812-486-6531or Mike Burkhart @ 812-257-4493. You can also send us an email @ travisburkhartfoundation@gmail.com for more information. We hope to see you there!
LOCATION:Country Oaks Golf Course 5064 E US Hwy 50 Montgomery\, IN 47558 812-486-3300
UID:e.3273.161
SEQUENCE:3
DTSTAMP:20260422T182509Z
URL:https://business.knoxcountychamber.com/events/details/travis-burkhart-foundation-golf-scramble-presented-by-first-savings-bank-161
END:VEVENT

END:VCALENDAR
