BEGIN:VCALENDAR
VERSION:2.0
PRODID:-//ChamberMaster//Event Calendar 2.0//EN
METHOD:PUBLISH
X-PUBLISHED-TTL:P3D
REFRESH-INTERVAL:P3D
CALSCALE:GREGORIAN
BEGIN:VEVENT
DTSTART:20210821T140000Z
DTEND:20210821T200000Z
X-MICROSOFT-CDO-ALLDAYEVENT:FALSE
SUMMARY:Vincennes Reptile & Exotics Expo
DESCRIPTION:Come join us for a walk on the wild side! There will be exotic animal and supply vendors visiting from around the country!
X-ALT-DESC;FMTTYPE=text/html:Come join us for a walk on the wild side! There will be exotic animal and supply vendors visiting from around the country!
LOCATION:Highland Woods Community Cebter & Park 1377 Hart Street Vincennes\, IN
UID:e.3273.178
SEQUENCE:3
DTSTAMP:20260422T170310Z
URL:https://business.knoxcountychamber.com/events/details/vincennes-reptile-exotics-expo-178
END:VEVENT

END:VCALENDAR
